BEGIN:VCALENDAR
VERSION:2.0
PRODID:-//Music Events | La Sierra University - ECPv6.15.20//NONSGML v1.0//EN
CALSCALE:GREGORIAN
METHOD:PUBLISH
X-WR-CALNAME:Music Events | La Sierra University
X-ORIGINAL-URL:https://music-events.lasierra.edu
X-WR-CALDESC:Events for Music Events | La Sierra University
REFRESH-INTERVAL;VALUE=DURATION:PT1H
X-Robots-Tag:noindex
X-PUBLISHED-TTL:PT1H
BEGIN:VTIMEZONE
TZID:America/Los_Angeles
BEGIN:DAYLIGHT
TZOFFSETFROM:-0800
TZOFFSETTO:-0700
TZNAME:PDT
DTSTART:20250309T100000
END:DAYLIGHT
BEGIN:STANDARD
TZOFFSETFROM:-0700
TZOFFSETTO:-0800
TZNAME:PST
DTSTART:20251102T090000
END:STANDARD
BEGIN:DAYLIGHT
TZOFFSETFROM:-0800
TZOFFSETTO:-0700
TZNAME:PDT
DTSTART:20260308T100000
END:DAYLIGHT
BEGIN:STANDARD
TZOFFSETFROM:-0700
TZOFFSETTO:-0800
TZNAME:PST
DTSTART:20261101T090000
END:STANDARD
BEGIN:DAYLIGHT
TZOFFSETFROM:-0800
TZOFFSETTO:-0700
TZNAME:PDT
DTSTART:20270314T100000
END:DAYLIGHT
BEGIN:STANDARD
TZOFFSETFROM:-0700
TZOFFSETTO:-0800
TZNAME:PST
DTSTART:20271107T090000
END:STANDARD
END:VTIMEZONE
BEGIN:VEVENT
DTSTART;TZID=America/Los_Angeles:20260217T190000
DTEND;TZID=America/Los_Angeles:20260217T190000
DTSTAMP:20260422T020359
CREATED:20260211T221204Z
LAST-MODIFIED:20260211T221204Z
UID:6160-1771354800-1771354800@music-events.lasierra.edu
SUMMARY:La Sierra Academy Fundraising Concert
DESCRIPTION:Join us for the La Sierra Academy Fundraising Concert\, presented in collaboration with La Sierra University. \n📅 February 17\, 2026 \n🕖 7:00 PM \n📍 Hole Memorial Auditorium \n4500 Riverwalk Pkwy\, Riverside\, CA \n🎟 Presale $15 | $20 at the door \nCome enjoy an inspiring evening of music as we support our students and their musical journey. We look forward to seeing you there!
URL:https://music-events.lasierra.edu/event/la-sierra-academy-fundraising-concert/
LOCATION:Hole Memorial Auditorium\, 4500 Riverwalk Pkwy\, Riverside\, CA\, 92505\, United States
CATEGORIES:Fundraiser
ATTACH;FMTTYPE=image/jpeg:https://music-events.lasierra.edu/wp-content/uploads/sites/7/2026/02/Chapel-Announcement-La-Sierra-Fundraising-Concert-Presentation-1920x1080-1.jpg
END:VEVENT
END:VCALENDAR